BEGIN:VCALENDAR
VERSION:2.0
PRODID:-//KreativWerkstatt Ried e.V. - ECPv6.15.20//NONSGML v1.0//EN
CALSCALE:GREGORIAN
METHOD:PUBLISH
X-WR-CALNAME:KreativWerkstatt Ried e.V.
X-ORIGINAL-URL:https://www.kreativwerkstatt-ried.de
X-WR-CALDESC:Veranstaltungen für KreativWerkstatt Ried e.V.
REFRESH-INTERVAL;VALUE=DURATION:PT1H
X-Robots-Tag:noindex
X-PUBLISHED-TTL:PT1H
BEGIN:VTIMEZONE
TZID:Europe/Berlin
BEGIN:DAYLIGHT
TZOFFSETFROM:+0100
TZOFFSETTO:+0200
TZNAME:CEST
DTSTART:20250330T010000
END:DAYLIGHT
BEGIN:STANDARD
TZOFFSETFROM:+0200
TZOFFSETTO:+0100
TZNAME:CET
DTSTART:20251026T010000
END:STANDARD
BEGIN:DAYLIGHT
TZOFFSETFROM:+0100
TZOFFSETTO:+0200
TZNAME:CEST
DTSTART:20260329T010000
END:DAYLIGHT
BEGIN:STANDARD
TZOFFSETFROM:+0200
TZOFFSETTO:+0100
TZNAME:CET
DTSTART:20261025T010000
END:STANDARD
BEGIN:DAYLIGHT
TZOFFSETFROM:+0100
TZOFFSETTO:+0200
TZNAME:CEST
DTSTART:20270328T010000
END:DAYLIGHT
BEGIN:STANDARD
TZOFFSETFROM:+0200
TZOFFSETTO:+0100
TZNAME:CET
DTSTART:20271031T010000
END:STANDARD
END:VTIMEZONE
BEGIN:VEVENT
DTSTART;TZID=Europe/Berlin:20260922T180000
DTEND;TZID=Europe/Berlin:20260922T190000
DTSTAMP:20260425T210733
CREATED:20250717T132423Z
LAST-MODIFIED:20260416T162246Z
UID:10000537-1790100000-1790103600@www.kreativwerkstatt-ried.de
SUMMARY:Coding Tuesday: Lerne programmieren (Micro:bit und Make Code (Blöcke) 6-teilig ab 10 Jahren
DESCRIPTION:🤖 Bist du bereit\, in die Welt des Codings einzutauchen? \nDann komm zu unserem Coding Tuesday! Jeden Dienstag lernst du spielerisch das Programmieren – von ersten Codezeilen mit dem Micro:bit und make Code bis um ersten Spiel. Gemeinsam entwickeln wir Ideen\, lösen Aufgaben und haben jede Menge Spaß beim Tüfteln. \n🕒 Wann? Jeden Dienstag\, 18:00–19:00 Uhr📍 Wo? KreativWerkstatt Ried🍕 Mit dabei: Pizza\, Freunde und viel gute Laune👾 Für wen? Kinder und Jugendliche von 10–14 Jahren\, keine Vorkenntnisse nötig\, du solltest aber alle Tasten auf der Tastatur finden und Sicher im Umgang mit der Maus sein.
URL:https://www.kreativwerkstatt-ried.de/event/coming-soon-coding-tuesday-lerne-programmieren-6-teilig-ab-10-jahren/2026-09-22/
LOCATION:KreativWerkstatt Vereinsheim\, Weiherstr. 9 (Eingang: Ringstr.)\, Ried\, 86510\, Deutschland
ATTACH;FMTTYPE=image/png:https://www.kreativwerkstatt-ried.de/wp-content/uploads/2025/03/Komm-machen-Flyer-Tuesday-png.avif
ORGANIZER;CN="KreativWerkstatt Ried e.V.":MAILTO:info@kreativwerkstatt-ried.de
END:VEVENT
BEGIN:VEVENT
DTSTART;TZID=Europe/Berlin:20261006T180000
DTEND;TZID=Europe/Berlin:20261006T190000
DTSTAMP:20260425T210733
CREATED:20250717T132423Z
LAST-MODIFIED:20260416T162246Z
UID:10000538-1791309600-1791313200@www.kreativwerkstatt-ried.de
SUMMARY:Coding Tuesday: Lerne programmieren (Micro:bit und Make Code (Blöcke) 6-teilig ab 10 Jahren
DESCRIPTION:🤖 Bist du bereit\, in die Welt des Codings einzutauchen? \nDann komm zu unserem Coding Tuesday! Jeden Dienstag lernst du spielerisch das Programmieren – von ersten Codezeilen mit dem Micro:bit und make Code bis um ersten Spiel. Gemeinsam entwickeln wir Ideen\, lösen Aufgaben und haben jede Menge Spaß beim Tüfteln. \n🕒 Wann? Jeden Dienstag\, 18:00–19:00 Uhr📍 Wo? KreativWerkstatt Ried🍕 Mit dabei: Pizza\, Freunde und viel gute Laune👾 Für wen? Kinder und Jugendliche von 10–14 Jahren\, keine Vorkenntnisse nötig\, du solltest aber alle Tasten auf der Tastatur finden und Sicher im Umgang mit der Maus sein.
URL:https://www.kreativwerkstatt-ried.de/event/coming-soon-coding-tuesday-lerne-programmieren-6-teilig-ab-10-jahren/2026-10-06/
LOCATION:KreativWerkstatt Vereinsheim\, Weiherstr. 9 (Eingang: Ringstr.)\, Ried\, 86510\, Deutschland
ATTACH;FMTTYPE=image/png:https://www.kreativwerkstatt-ried.de/wp-content/uploads/2025/03/Komm-machen-Flyer-Tuesday-png.avif
ORGANIZER;CN="KreativWerkstatt Ried e.V.":MAILTO:info@kreativwerkstatt-ried.de
END:VEVENT
BEGIN:VEVENT
DTSTART;TZID=Europe/Berlin:20261020T180000
DTEND;TZID=Europe/Berlin:20261020T190000
DTSTAMP:20260425T210733
CREATED:20250717T132423Z
LAST-MODIFIED:20260416T162246Z
UID:10000539-1792519200-1792522800@www.kreativwerkstatt-ried.de
SUMMARY:Coding Tuesday: Lerne programmieren (Micro:bit und Make Code (Blöcke) 6-teilig ab 10 Jahren
DESCRIPTION:🤖 Bist du bereit\, in die Welt des Codings einzutauchen? \nDann komm zu unserem Coding Tuesday! Jeden Dienstag lernst du spielerisch das Programmieren – von ersten Codezeilen mit dem Micro:bit und make Code bis um ersten Spiel. Gemeinsam entwickeln wir Ideen\, lösen Aufgaben und haben jede Menge Spaß beim Tüfteln. \n🕒 Wann? Jeden Dienstag\, 18:00–19:00 Uhr📍 Wo? KreativWerkstatt Ried🍕 Mit dabei: Pizza\, Freunde und viel gute Laune👾 Für wen? Kinder und Jugendliche von 10–14 Jahren\, keine Vorkenntnisse nötig\, du solltest aber alle Tasten auf der Tastatur finden und Sicher im Umgang mit der Maus sein.
URL:https://www.kreativwerkstatt-ried.de/event/coming-soon-coding-tuesday-lerne-programmieren-6-teilig-ab-10-jahren/2026-10-20/
LOCATION:KreativWerkstatt Vereinsheim\, Weiherstr. 9 (Eingang: Ringstr.)\, Ried\, 86510\, Deutschland
ATTACH;FMTTYPE=image/png:https://www.kreativwerkstatt-ried.de/wp-content/uploads/2025/03/Komm-machen-Flyer-Tuesday-png.avif
ORGANIZER;CN="KreativWerkstatt Ried e.V.":MAILTO:info@kreativwerkstatt-ried.de
END:VEVENT
BEGIN:VEVENT
DTSTART;TZID=Europe/Berlin:20261103T180000
DTEND;TZID=Europe/Berlin:20261103T190000
DTSTAMP:20260425T210733
CREATED:20250717T132423Z
LAST-MODIFIED:20260416T162246Z
UID:10000540-1793728800-1793732400@www.kreativwerkstatt-ried.de
SUMMARY:Coding Tuesday: Lerne programmieren (Micro:bit und Make Code (Blöcke) 6-teilig ab 10 Jahren
DESCRIPTION:🤖 Bist du bereit\, in die Welt des Codings einzutauchen? \nDann komm zu unserem Coding Tuesday! Jeden Dienstag lernst du spielerisch das Programmieren – von ersten Codezeilen mit dem Micro:bit und make Code bis um ersten Spiel. Gemeinsam entwickeln wir Ideen\, lösen Aufgaben und haben jede Menge Spaß beim Tüfteln. \n🕒 Wann? Jeden Dienstag\, 18:00–19:00 Uhr📍 Wo? KreativWerkstatt Ried🍕 Mit dabei: Pizza\, Freunde und viel gute Laune👾 Für wen? Kinder und Jugendliche von 10–14 Jahren\, keine Vorkenntnisse nötig\, du solltest aber alle Tasten auf der Tastatur finden und Sicher im Umgang mit der Maus sein.
URL:https://www.kreativwerkstatt-ried.de/event/coming-soon-coding-tuesday-lerne-programmieren-6-teilig-ab-10-jahren/2026-11-03/
LOCATION:KreativWerkstatt Vereinsheim\, Weiherstr. 9 (Eingang: Ringstr.)\, Ried\, 86510\, Deutschland
ATTACH;FMTTYPE=image/png:https://www.kreativwerkstatt-ried.de/wp-content/uploads/2025/03/Komm-machen-Flyer-Tuesday-png.avif
ORGANIZER;CN="KreativWerkstatt Ried e.V.":MAILTO:info@kreativwerkstatt-ried.de
END:VEVENT
BEGIN:VEVENT
DTSTART;TZID=Europe/Berlin:20261117T180000
DTEND;TZID=Europe/Berlin:20261117T190000
DTSTAMP:20260425T210733
CREATED:20250717T132423Z
LAST-MODIFIED:20260416T162246Z
UID:10000541-1794938400-1794942000@www.kreativwerkstatt-ried.de
SUMMARY:Coding Tuesday: Lerne programmieren (Micro:bit und Make Code (Blöcke) 6-teilig ab 10 Jahren
DESCRIPTION:🤖 Bist du bereit\, in die Welt des Codings einzutauchen? \nDann komm zu unserem Coding Tuesday! Jeden Dienstag lernst du spielerisch das Programmieren – von ersten Codezeilen mit dem Micro:bit und make Code bis um ersten Spiel. Gemeinsam entwickeln wir Ideen\, lösen Aufgaben und haben jede Menge Spaß beim Tüfteln. \n🕒 Wann? Jeden Dienstag\, 18:00–19:00 Uhr📍 Wo? KreativWerkstatt Ried🍕 Mit dabei: Pizza\, Freunde und viel gute Laune👾 Für wen? Kinder und Jugendliche von 10–14 Jahren\, keine Vorkenntnisse nötig\, du solltest aber alle Tasten auf der Tastatur finden und Sicher im Umgang mit der Maus sein.
URL:https://www.kreativwerkstatt-ried.de/event/coming-soon-coding-tuesday-lerne-programmieren-6-teilig-ab-10-jahren/2026-11-17/
LOCATION:KreativWerkstatt Vereinsheim\, Weiherstr. 9 (Eingang: Ringstr.)\, Ried\, 86510\, Deutschland
ATTACH;FMTTYPE=image/png:https://www.kreativwerkstatt-ried.de/wp-content/uploads/2025/03/Komm-machen-Flyer-Tuesday-png.avif
ORGANIZER;CN="KreativWerkstatt Ried e.V.":MAILTO:info@kreativwerkstatt-ried.de
END:VEVENT
BEGIN:VEVENT
DTSTART;TZID=Europe/Berlin:20261201T180000
DTEND;TZID=Europe/Berlin:20261201T190000
DTSTAMP:20260425T210733
CREATED:20250717T132423Z
LAST-MODIFIED:20260416T162246Z
UID:10000542-1796148000-1796151600@www.kreativwerkstatt-ried.de
SUMMARY:Coding Tuesday: Lerne programmieren (Micro:bit und Make Code (Blöcke) 6-teilig ab 10 Jahren
DESCRIPTION:🤖 Bist du bereit\, in die Welt des Codings einzutauchen? \nDann komm zu unserem Coding Tuesday! Jeden Dienstag lernst du spielerisch das Programmieren – von ersten Codezeilen mit dem Micro:bit und make Code bis um ersten Spiel. Gemeinsam entwickeln wir Ideen\, lösen Aufgaben und haben jede Menge Spaß beim Tüfteln. \n🕒 Wann? Jeden Dienstag\, 18:00–19:00 Uhr📍 Wo? KreativWerkstatt Ried🍕 Mit dabei: Pizza\, Freunde und viel gute Laune👾 Für wen? Kinder und Jugendliche von 10–14 Jahren\, keine Vorkenntnisse nötig\, du solltest aber alle Tasten auf der Tastatur finden und Sicher im Umgang mit der Maus sein.
URL:https://www.kreativwerkstatt-ried.de/event/coming-soon-coding-tuesday-lerne-programmieren-6-teilig-ab-10-jahren/2026-12-01/
LOCATION:KreativWerkstatt Vereinsheim\, Weiherstr. 9 (Eingang: Ringstr.)\, Ried\, 86510\, Deutschland
ATTACH;FMTTYPE=image/png:https://www.kreativwerkstatt-ried.de/wp-content/uploads/2025/03/Komm-machen-Flyer-Tuesday-png.avif
ORGANIZER;CN="KreativWerkstatt Ried e.V.":MAILTO:info@kreativwerkstatt-ried.de
END:VEVENT
END:VCALENDAR